BEGIN:VCALENDAR
VERSION:2.0
PRODID:icalendar-ruby
CALSCALE:GREGORIAN
METHOD:PUBLISH
BEGIN:VEVENT
DTSTAMP:20260422T112139Z
UID:37dfa8f9-829e-434a-865b-61fd54b7ce5f
DTSTART;VALUE=DATE:20221007
DTEND;VALUE=DATE:20221007
DESCRIPTION:Boulder BMX\, Inc
LOCATION:1799 Commons Way  Boulder City NV 89005 USA
SUMMARY:Warnicke Single
URL:/site/bmx_races/506538
END:VEVENT
END:VCALENDAR
