BEGIN:VCALENDAR
VERSION:2.0
PRODID:icalendar-ruby
CALSCALE:GREGORIAN
METHOD:PUBLISH
BEGIN:VEVENT
DTSTAMP:20260419T170748Z
UID:c37cb5de-36ee-4437-8aa7-4bd8baa3d579
DTSTART;VALUE=DATE:20221008
DTEND;VALUE=DATE:20221008
DESCRIPTION:Interstate BMX
LOCATION:2600 Fairgrounds Blvd  Kingman AZ 86401 USA
SUMMARY:Race for Life Single
URL:/site/bmx_races/506717
END:VEVENT
END:VCALENDAR
