BEGIN:VCALENDAR
VERSION:2.0
PRODID:icalendar-ruby
CALSCALE:GREGORIAN
METHOD:PUBLISH
BEGIN:VEVENT
DTSTAMP:20260422T104704Z
UID:e47da485-1ab4-47f3-aec7-92dbe1769cb3
DTSTART;VALUE=DATE:20221027
DTEND;VALUE=DATE:20221027
DESCRIPTION:Southern Maryland BMX
LOCATION:26600 Budds Creek Rd  Mechanicsville MD 20659 USA
SUMMARY:Practice
URL:/site/bmx_races/506889
END:VEVENT
END:VCALENDAR
