BEGIN:VCALENDAR
VERSION:2.0
PRODID:icalendar-ruby
CALSCALE:GREGORIAN
METHOD:PUBLISH
BEGIN:VEVENT
DTSTAMP:20260421T072948Z
UID:e238e67e-ce1f-4b2d-bdc5-f242ff4194f4
DTSTART;VALUE=DATE:20221113
DTEND;VALUE=DATE:20221113
DESCRIPTION:Circle City BMX
LOCATION:Westgate Park    100 Recreation Rd Dothan AL 36305 USA
SUMMARY:Local Race Single
URL:/site/bmx_races/507115
END:VEVENT
END:VCALENDAR
