BEGIN:VCALENDAR
VERSION:2.0
PRODID:icalendar-ruby
CALSCALE:GREGORIAN
METHOD:PUBLISH
BEGIN:VEVENT
DTSTAMP:20260423T062935Z
UID:8468f596-23fb-4caf-b3ed-6e20840cfd88
DTSTART;VALUE=DATE:20221112
DTEND;VALUE=DATE:20221112
DESCRIPTION:Oldsmar BMX Supercross
LOCATION:Oldsmar Sports Complex 3120 Tampa Road Oldsmar FL 34677 USA
SUMMARY:Local Race Single
URL:/site/bmx_races/507351
END:VEVENT
END:VCALENDAR
