BEGIN:VCALENDAR
VERSION:2.0
PRODID:icalendar-ruby
CALSCALE:GREGORIAN
METHOD:PUBLISH
BEGIN:VEVENT
DTSTAMP:20260422T121608Z
UID:70c7cd6a-8c3a-4e0c-ad71-4f08a6ecf7d3
DTSTART;VALUE=DATE:20221021
DTEND;VALUE=DATE:20221021
DESCRIPTION:Omaha BMX
LOCATION:11111 W Maple Rd  Omaha NE 68164 USA
SUMMARY:Local Race Single
URL:/site/bmx_races/507393
END:VEVENT
END:VCALENDAR
