BEGIN:VCALENDAR
VERSION:2.0
PRODID:icalendar-ruby
CALSCALE:GREGORIAN
METHOD:PUBLISH
BEGIN:VEVENT
DTSTAMP:20260423T040836Z
UID:61fb3616-c989-4e1f-8e54-711de8276518
DTSTART;VALUE=DATE:20220910
DTEND;VALUE=DATE:20220910
DESCRIPTION:Oldsmar BMX Supercross
LOCATION:Oldsmar Sports Complex 3120 Tampa Road Oldsmar FL 34677 USA
SUMMARY:Local Race Single
URL:/site/bmx_races/507841
END:VEVENT
END:VCALENDAR
