BEGIN:VCALENDAR
VERSION:2.0
PRODID:icalendar-ruby
CALSCALE:GREGORIAN
METHOD:PUBLISH
BEGIN:VEVENT
DTSTAMP:20260419T151710Z
UID:b699eed1-705b-4c92-8213-0e12b06be7ac
DTSTART;VALUE=DATE:20221022
DTEND;VALUE=DATE:20221022
DESCRIPTION:Shelby Farms BMX
LOCATION:6435 Walnut Grove Rd  Memphis TN 38119 USA
SUMMARY:Local Race Single
URL:/site/bmx_races/508218
END:VEVENT
END:VCALENDAR
