BEGIN:VCALENDAR
VERSION:2.0
PRODID:icalendar-ruby
CALSCALE:GREGORIAN
METHOD:PUBLISH
BEGIN:VEVENT
DTSTAMP:20260421T121833Z
UID:1e163af8-ab74-4c67-b3eb-bf174468fa57
DTSTART;VALUE=DATE:20221210
DTEND;VALUE=DATE:20221210
DESCRIPTION:Grand Prix BMX at SoCal Fair
LOCATION:18700 Lake Perris Dr  Perris CA 92571 USA
SUMMARY:Earned Double
URL:/site/bmx_races/508888
END:VEVENT
END:VCALENDAR
