BEGIN:VCALENDAR
VERSION:2.0
PRODID:icalendar-ruby
CALSCALE:GREGORIAN
METHOD:PUBLISH
BEGIN:VEVENT
DTSTAMP:20260422T150153Z
UID:9e14f694-6757-4495-8092-5b1419165345
DTSTART;VALUE=DATE:20231214
DTEND;VALUE=DATE:20231214
DESCRIPTION:High Springs BMX
LOCATION:  High Springs FL 32028 USA
SUMMARY:Practice
URL:/site/bmx_races/509037
END:VEVENT
END:VCALENDAR
