BEGIN:VCALENDAR
VERSION:2.0
PRODID:icalendar-ruby
CALSCALE:GREGORIAN
METHOD:PUBLISH
BEGIN:VEVENT
DTSTAMP:20260422T150142Z
UID:39f2652b-3e1d-434c-bd3f-62ac0367f76b
DTSTART;VALUE=DATE:20221008
DTEND;VALUE=DATE:20221008
DESCRIPTION:Hardesty National BMX Stadium
LOCATION:490 N Lansing Ave  Tulsa OK 74120 USA
SUMMARY:Local Race Single
URL:/site/bmx_races/509104
END:VEVENT
END:VCALENDAR
