BEGIN:VCALENDAR
VERSION:2.0
PRODID:icalendar-ruby
CALSCALE:GREGORIAN
METHOD:PUBLISH
BEGIN:VEVENT
DTSTAMP:20260423T103533Z
UID:dfc74720-44e0-4ba6-a2af-cb46994a3bb4
DTSTART;VALUE=DATE:20220922
DTEND;VALUE=DATE:20220922
DESCRIPTION:Pemberton BMX
LOCATION:Cottonwood Road  Pemberton BC V0N2L1 CAN
SUMMARY:Local Race Single
URL:/site/bmx_races/509335
END:VEVENT
END:VCALENDAR
