BEGIN:VCALENDAR
VERSION:2.0
PRODID:icalendar-ruby
CALSCALE:GREGORIAN
METHOD:PUBLISH
BEGIN:VEVENT
DTSTAMP:20260423T040840Z
UID:fb5cd167-d227-4bc6-9c58-230fc4d4b550
DTSTART;VALUE=DATE:20221027
DTEND;VALUE=DATE:20221027
DESCRIPTION:Freedom Park BMX Raceway
LOCATION:530 Convair St  Camarillo CA 93010 USA
SUMMARY:Local Race Single
URL:/site/bmx_races/509933
END:VEVENT
END:VCALENDAR
