BEGIN:VCALENDAR
VERSION:2.0
PRODID:icalendar-ruby
CALSCALE:GREGORIAN
METHOD:PUBLISH
BEGIN:VEVENT
DTSTAMP:20260425T182412Z
UID:4b36cc95-a56a-480e-b913-11683572f3a2
DTSTART;VALUE=DATE:20230702
DTEND;VALUE=DATE:20230702
DESCRIPTION:Chesapeake BMX
LOCATION:726 Donaldson Avenue  Severn MD 21144 USA
SUMMARY:Local Race Single
URL:/site/bmx_races/510123
END:VEVENT
END:VCALENDAR
