BEGIN:VCALENDAR
VERSION:2.0
PRODID:icalendar-ruby
CALSCALE:GREGORIAN
METHOD:PUBLISH
BEGIN:VEVENT
DTSTAMP:20260421T135117Z
UID:94ec3b11-8ec7-42d7-b9f9-5f5b47f927de
DTSTART;VALUE=DATE:20221105
DTEND;VALUE=DATE:20221105
DESCRIPTION:Grand Prix BMX at SoCal Fair
LOCATION:18700 Lake Perris Dr  Perris CA 92571 USA
SUMMARY:Local Race Single
URL:/site/bmx_races/510399
END:VEVENT
END:VCALENDAR
