BEGIN:VCALENDAR
VERSION:2.0
PRODID:icalendar-ruby
CALSCALE:GREGORIAN
METHOD:PUBLISH
BEGIN:VEVENT
DTSTAMP:20260419T122724Z
UID:f0f6d14d-d551-4da2-846f-e75788ed26f3
DTSTART;VALUE=DATE:20230513
DTEND;VALUE=DATE:20230513
DESCRIPTION:Twin Silo BMX
LOCATION:5400 Ziegler Rd.   Ft Collins CO 80528 USA
SUMMARY:Gold Cup Qualifier Triple
URL:/site/bmx_races/510445
END:VEVENT
END:VCALENDAR
