BEGIN:VCALENDAR
VERSION:2.0
PRODID:icalendar-ruby
CALSCALE:GREGORIAN
METHOD:PUBLISH
BEGIN:VEVENT
DTSTAMP:20260421T172047Z
UID:ba091e2a-68be-4635-a22c-2e43d59d0172
DTSTART;VALUE=DATE:20230514
DTEND;VALUE=DATE:20230514
DESCRIPTION:Twin Silo BMX
LOCATION:5400 Ziegler Rd.   Ft Collins CO 80528 USA
SUMMARY:State Race Double
URL:/site/bmx_races/510614
END:VEVENT
END:VCALENDAR
