BEGIN:VCALENDAR
VERSION:2.0
PRODID:icalendar-ruby
CALSCALE:GREGORIAN
METHOD:PUBLISH
BEGIN:VEVENT
DTSTAMP:20260421T234228Z
UID:9e24f194-1eef-4686-9702-c4c30ed26459
DTSTART;VALUE=DATE:20230508
DTEND;VALUE=DATE:20230508
DESCRIPTION:Marysville BMX
LOCATION:618 N Main St  Marysville OH 43040 USA
SUMMARY:Practice
URL:/site/bmx_races/510679
END:VEVENT
END:VCALENDAR
