BEGIN:VCALENDAR
VERSION:2.0
PRODID:icalendar-ruby
CALSCALE:GREGORIAN
METHOD:PUBLISH
BEGIN:VEVENT
DTSTAMP:20260421T204123Z
UID:6af1eb6a-061a-479a-bedd-349017988a7a
DTSTART;VALUE=DATE:20230724
DTEND;VALUE=DATE:20230724
DESCRIPTION:Marysville BMX
LOCATION:618 N Main St  Marysville OH 43040 USA
SUMMARY:Practice
URL:/site/bmx_races/510690
END:VEVENT
END:VCALENDAR
