BEGIN:VCALENDAR
VERSION:2.0
PRODID:icalendar-ruby
CALSCALE:GREGORIAN
METHOD:PUBLISH
BEGIN:VEVENT
DTSTAMP:20260421T175037Z
UID:f30f9d80-e1af-472d-a982-3ec1f1ceb3a3
DTSTART;VALUE=DATE:20230819
DTEND;VALUE=DATE:20230819
DESCRIPTION:Marysville BMX
LOCATION:618 N Main St  Marysville OH 43040 USA
SUMMARY:Local Race Single
URL:/site/bmx_races/510733
END:VEVENT
END:VCALENDAR
