BEGIN:VCALENDAR
VERSION:2.0
PRODID:icalendar-ruby
CALSCALE:GREGORIAN
METHOD:PUBLISH
BEGIN:VEVENT
DTSTAMP:20260421T080202Z
UID:ecd3f8fd-435c-4e15-af18-620578e91b44
DTSTART;VALUE=DATE:20231210
DTEND;VALUE=DATE:20231210
DESCRIPTION:Hornet`s Nest BMX
LOCATION:6301 Beatties Ford Rd  Charlotte NC 28216 USA
SUMMARY:Local Race Single
URL:/site/bmx_races/511009
END:VEVENT
END:VCALENDAR
