BEGIN:VCALENDAR
VERSION:2.0
PRODID:icalendar-ruby
CALSCALE:GREGORIAN
METHOD:PUBLISH
BEGIN:VEVENT
DTSTAMP:20260421T031412Z
UID:83226516-b6ac-42b3-8886-9e7e63ce3d2f
DTSTART;VALUE=DATE:20230516
DTEND;VALUE=DATE:20230516
DESCRIPTION:Fountain City BMX
LOCATION:David D. Whetstone Jr. Sports Complex     County Road 4 W Prattvil
 le AL 36066 USA
SUMMARY:Practice
URL:/site/bmx_races/511081
END:VEVENT
END:VCALENDAR
