BEGIN:VCALENDAR
VERSION:2.0
PRODID:icalendar-ruby
CALSCALE:GREGORIAN
METHOD:PUBLISH
BEGIN:VEVENT
DTSTAMP:20260421T031412Z
UID:38c8f68c-62b1-41c9-8304-4cb89a8d9e6f
DTSTART;VALUE=DATE:20230519
DTEND;VALUE=DATE:20230519
DESCRIPTION:Fountain City BMX
LOCATION:David D. Whetstone Jr. Sports Complex     County Road 4 W Prattvil
 le AL 36066 USA
SUMMARY:Local Race Single
URL:/site/bmx_races/511082
END:VEVENT
END:VCALENDAR
