BEGIN:VCALENDAR
VERSION:2.0
PRODID:icalendar-ruby
CALSCALE:GREGORIAN
METHOD:PUBLISH
BEGIN:VEVENT
DTSTAMP:20260421T012718Z
UID:1276b860-2d54-4637-90e7-79169a5a2e06
DTSTART;VALUE=DATE:20230613
DTEND;VALUE=DATE:20230613
DESCRIPTION:Fountain City BMX
LOCATION:David D. Whetstone Jr. Sports Complex     County Road 4 W Prattvil
 le AL 36066 USA
SUMMARY:Practice
URL:/site/bmx_races/511088
END:VEVENT
END:VCALENDAR
