BEGIN:VCALENDAR
VERSION:2.0
PRODID:icalendar-ruby
CALSCALE:GREGORIAN
METHOD:PUBLISH
BEGIN:VEVENT
DTSTAMP:20260420T170017Z
UID:b806a2bf-7802-472a-941c-fe7b57ac594c
DTSTART;VALUE=DATE:20231117
DTEND;VALUE=DATE:20231117
DESCRIPTION:Fountain City BMX
LOCATION:David D. Whetstone Jr. Sports Complex     County Road 4 W Prattvil
 le AL 36066 USA
SUMMARY:Practice
URL:/site/bmx_races/511134
END:VEVENT
END:VCALENDAR
