BEGIN:VCALENDAR
VERSION:2.0
PRODID:icalendar-ruby
CALSCALE:GREGORIAN
METHOD:PUBLISH
BEGIN:VEVENT
DTSTAMP:20260423T123851Z
UID:24b5a52e-5173-47b0-af29-225ccf7ac714
DTSTART;VALUE=DATE:20230421
DTEND;VALUE=DATE:20230421
DESCRIPTION:Park City BMX
LOCATION:6801 N Hydraulic  Park City KS 67219 USA
SUMMARY:Local Race Single
URL:/site/bmx_races/511155
END:VEVENT
END:VCALENDAR
