BEGIN:VCALENDAR
VERSION:2.0
PRODID:icalendar-ruby
CALSCALE:GREGORIAN
METHOD:PUBLISH
BEGIN:VEVENT
DTSTAMP:20260426T011818Z
UID:9fc72547-bdf2-4b38-971c-cdd22f0c1a33
DTSTART;VALUE=DATE:20230709
DTEND;VALUE=DATE:20230709
DESCRIPTION:Central Wisconsin BMX
LOCATION:2220 E Riverview Expy\,  Wisconsin Rapids WI 54494 USA
SUMMARY:State Race Double
URL:/site/bmx_races/511720
END:VEVENT
END:VCALENDAR
