BEGIN:VCALENDAR
VERSION:2.0
PRODID:icalendar-ruby
CALSCALE:GREGORIAN
METHOD:PUBLISH
BEGIN:VEVENT
DTSTAMP:20260421T054341Z
UID:27e5b7ee-2389-41d5-85b6-47a3984c6312
DTSTART;VALUE=DATE:20230429
DTEND;VALUE=DATE:20230429
DESCRIPTION:Grand Prix BMX at SoCal Fair
LOCATION:18700 Lake Perris Dr  Perris CA 92571 USA
SUMMARY:State Race Double
URL:/site/bmx_races/512172
END:VEVENT
END:VCALENDAR
