BEGIN:VCALENDAR
VERSION:2.0
PRODID:icalendar-ruby
CALSCALE:GREGORIAN
METHOD:PUBLISH
BEGIN:VEVENT
DTSTAMP:20260422T095630Z
UID:07eb1f48-c08e-4e00-98a5-4c1f4f821b23
DTSTART;VALUE=DATE:20221119
DTEND;VALUE=DATE:20221119
DESCRIPTION:Billerica BMX
LOCATION:270 Treble Cove Rd  Billerica MA 01821 USA
SUMMARY:Local Race Single
URL:/site/bmx_races/512286
END:VEVENT
END:VCALENDAR
