BEGIN:VCALENDAR
VERSION:2.0
PRODID:icalendar-ruby
CALSCALE:GREGORIAN
METHOD:PUBLISH
BEGIN:VEVENT
DTSTAMP:20260425T024431Z
UID:8f0e971f-caf1-4add-a365-0793f94e74ea
DTSTART;VALUE=DATE:20231103
DTEND;VALUE=DATE:20231103
DESCRIPTION:Pearland BMX
LOCATION:5657 Morning Dove Ln  Alvin TX 77511 USA
SUMMARY:Local Race Single
URL:/site/bmx_races/512405
END:VEVENT
END:VCALENDAR
