BEGIN:VCALENDAR
VERSION:2.0
PRODID:icalendar-ruby
CALSCALE:GREGORIAN
METHOD:PUBLISH
BEGIN:VEVENT
DTSTAMP:20260425T024431Z
UID:c05f0ae9-b7d7-46d9-853e-6b5be453bd8d
DTSTART;VALUE=DATE:20231007
DTEND;VALUE=DATE:20231007
DESCRIPTION:Pearland BMX
LOCATION:5657 Morning Dove Ln  Alvin TX 77511 USA
SUMMARY:Local Race Single
URL:/site/bmx_races/512455
END:VEVENT
END:VCALENDAR
