BEGIN:VCALENDAR
VERSION:2.0
PRODID:icalendar-ruby
CALSCALE:GREGORIAN
METHOD:PUBLISH
BEGIN:VEVENT
DTSTAMP:20260419T144206Z
UID:a065dcfe-0a70-455e-bf25-5edfcd0cc72b
DTSTART;VALUE=DATE:20230716
DTEND;VALUE=DATE:20230716
DESCRIPTION:Winchester BMX
LOCATION:1001 E. Cork Street  Winchester VA 22601 USA
SUMMARY:Local Race Single
URL:/site/bmx_races/512670
END:VEVENT
END:VCALENDAR
