BEGIN:VCALENDAR
VERSION:2.0
PRODID:icalendar-ruby
CALSCALE:GREGORIAN
METHOD:PUBLISH
BEGIN:VEVENT
DTSTAMP:20260424T202927Z
UID:dab8ab1f-9e63-4b6d-96e3-678eb8abd23c
DTSTART;VALUE=DATE:20230610
DTEND;VALUE=DATE:20230610
DESCRIPTION:Hunterdon County BMX
LOCATION:314 Rt 12 North  Flemington NJ 08822 USA
SUMMARY:Local Race Single
URL:/site/bmx_races/512744
END:VEVENT
END:VCALENDAR
