BEGIN:VCALENDAR
VERSION:2.0
PRODID:icalendar-ruby
CALSCALE:GREGORIAN
METHOD:PUBLISH
BEGIN:VEVENT
DTSTAMP:20260419T142352Z
UID:117e59dd-230b-47a8-8b9a-1249ab16a92e
DTSTART;VALUE=DATE:20230722
DTEND;VALUE=DATE:20230722
DESCRIPTION:Hunterdon County BMX
LOCATION:314 Rt 12 North  Flemington NJ 08822 USA
SUMMARY:Local Race Single
URL:/site/bmx_races/512749
END:VEVENT
END:VCALENDAR
