BEGIN:VCALENDAR
VERSION:2.0
PRODID:icalendar-ruby
CALSCALE:GREGORIAN
METHOD:PUBLISH
BEGIN:VEVENT
DTSTAMP:20260419T142337Z
UID:5a3c80ff-f11b-4954-b291-12437c9730a1
DTSTART;VALUE=DATE:20230930
DTEND;VALUE=DATE:20230930
DESCRIPTION:Cherry Hill Park BMX
LOCATION:1727 N 15th St  Coeur D`Alene ID 83814 USA
SUMMARY:Local Race Single
URL:/site/bmx_races/512826
END:VEVENT
END:VCALENDAR
