BEGIN:VCALENDAR
VERSION:2.0
PRODID:icalendar-ruby
CALSCALE:GREGORIAN
METHOD:PUBLISH
BEGIN:VEVENT
DTSTAMP:20260423T080522Z
UID:b915bd75-3827-4794-a17e-ac1da76d17ea
DTSTART;VALUE=DATE:20230506
DTEND;VALUE=DATE:20230506
DESCRIPTION:Cedar BMX
LOCATION:Red Barn Village Rd  Clarks Summit PA 18644 USA
SUMMARY:Local Race Single
URL:/site/bmx_races/512874
END:VEVENT
END:VCALENDAR
