BEGIN:VCALENDAR
VERSION:2.0
PRODID:icalendar-ruby
CALSCALE:GREGORIAN
METHOD:PUBLISH
BEGIN:VEVENT
DTSTAMP:20260424T004122Z
UID:4d585e98-4f36-4c4b-b7e3-7b85a6e8b66f
DTSTART;VALUE=DATE:20230122
DTEND;VALUE=DATE:20230122
DESCRIPTION:Rum River BMX
LOCATION:Isanti Parkway Northwest  Isanti MN 55040 USA
SUMMARY:Local Race Single
URL:/site/bmx_races/513386
END:VEVENT
END:VCALENDAR
