BEGIN:VCALENDAR
VERSION:2.0
PRODID:icalendar-ruby
CALSCALE:GREGORIAN
METHOD:PUBLISH
BEGIN:VEVENT
DTSTAMP:20260423T011358Z
UID:a6d5ab69-c806-47a9-828c-a62267f30ab8
DTSTART;VALUE=DATE:20230226
DTEND;VALUE=DATE:20230226
DESCRIPTION:Rum River BMX
LOCATION:Isanti Parkway Northwest  Isanti MN 55040 USA
SUMMARY:Local Race Single
URL:/site/bmx_races/513396
END:VEVENT
END:VCALENDAR
