BEGIN:VCALENDAR
VERSION:2.0
PRODID:icalendar-ruby
CALSCALE:GREGORIAN
METHOD:PUBLISH
BEGIN:VEVENT
DTSTAMP:20260419T171710Z
UID:bd150552-c086-4bd3-a3bd-a8da3ee255ac
DTSTART;VALUE=DATE:20230717
DTEND;VALUE=DATE:20230717
DESCRIPTION:Hagerstown BMX
LOCATION:Fairground Ave & Cross St  Hagerstown MD 21740 USA
SUMMARY:Local Race Single
URL:/site/bmx_races/513502
END:VEVENT
END:VCALENDAR
