BEGIN:VCALENDAR
VERSION:2.0
PRODID:icalendar-ruby
CALSCALE:GREGORIAN
METHOD:PUBLISH
BEGIN:VEVENT
DTSTAMP:20260421T193048Z
UID:a0e5d06f-c842-4023-ab1c-d95c84a5a353
DTSTART;VALUE=DATE:20231018
DTEND;VALUE=DATE:20231018
DESCRIPTION:Hagerstown BMX
LOCATION:Fairground Ave & Cross St  Hagerstown MD 21740 USA
SUMMARY:Local Race Single
URL:/site/bmx_races/513534
END:VEVENT
END:VCALENDAR
