BEGIN:VCALENDAR
VERSION:2.0
PRODID:icalendar-ruby
CALSCALE:GREGORIAN
METHOD:PUBLISH
BEGIN:VEVENT
DTSTAMP:20260421T175006Z
UID:82b43c94-281a-4921-9384-a52766b5d9dc
DTSTART;VALUE=DATE:20231101
DTEND;VALUE=DATE:20231101
DESCRIPTION:Hagerstown BMX
LOCATION:Fairground Ave & Cross St  Hagerstown MD 21740 USA
SUMMARY:Local Race Single
URL:/site/bmx_races/513539
END:VEVENT
END:VCALENDAR
