BEGIN:VCALENDAR
VERSION:2.0
PRODID:icalendar-ruby
CALSCALE:GREGORIAN
METHOD:PUBLISH
BEGIN:VEVENT
DTSTAMP:20260421T174919Z
UID:2c2df7c3-950f-4290-8432-449ec816cbdd
DTSTART;VALUE=DATE:20231108
DTEND;VALUE=DATE:20231108
DESCRIPTION:Hagerstown BMX
LOCATION:Fairground Ave & Cross St  Hagerstown MD 21740 USA
SUMMARY:Local Race Single
URL:/site/bmx_races/513542
END:VEVENT
END:VCALENDAR
