BEGIN:VCALENDAR
VERSION:2.0
PRODID:icalendar-ruby
CALSCALE:GREGORIAN
METHOD:PUBLISH
BEGIN:VEVENT
DTSTAMP:20260421T192946Z
UID:2507ad86-e1cc-4fed-b797-71117553152a
DTSTART;VALUE=DATE:20231007
DTEND;VALUE=DATE:20231007
DESCRIPTION:Hagerstown BMX
LOCATION:Fairground Ave & Cross St  Hagerstown MD 21740 USA
SUMMARY:Warnicke Double
URL:/site/bmx_races/513562
END:VEVENT
END:VCALENDAR
