BEGIN:VCALENDAR
VERSION:2.0
PRODID:icalendar-ruby
CALSCALE:GREGORIAN
METHOD:PUBLISH
BEGIN:VEVENT
DTSTAMP:20260419T153127Z
UID:6d73fade-f490-48bd-a6a5-dc26dcc86db8
DTSTART;VALUE=DATE:20221214
DTEND;VALUE=DATE:20221214
DESCRIPTION:Charlotte BMX
LOCATION:2505 Carmalita St  Punta Gorda FL 33950 USA
SUMMARY:Local Race Single
URL:/site/bmx_races/514286
END:VEVENT
END:VCALENDAR
