BEGIN:VCALENDAR
VERSION:2.0
PRODID:icalendar-ruby
CALSCALE:GREGORIAN
METHOD:PUBLISH
BEGIN:VEVENT
DTSTAMP:20260419T142312Z
UID:c2790104-5129-4b5b-a855-c7b5458fac78
DTSTART;VALUE=DATE:20230806
DTEND;VALUE=DATE:20230806
DESCRIPTION:Richmond BMX
LOCATION:4401 Hobbs Lane   Next To Church Richmond VA 23231 USA
SUMMARY:State Race Triple
URL:/site/bmx_races/514292
END:VEVENT
END:VCALENDAR
