BEGIN:VCALENDAR
VERSION:2.0
PRODID:icalendar-ruby
CALSCALE:GREGORIAN
METHOD:PUBLISH
BEGIN:VEVENT
DTSTAMP:20260422T150016Z
UID:ffbe3468-443a-4362-81c8-6fcebf67c98e
DTSTART;VALUE=DATE:20230328
DTEND;VALUE=DATE:20230328
DESCRIPTION:Tucson BMX
LOCATION:9245 E Irvington  Tucson AZ 85730 USA
SUMMARY:Practice
URL:/site/bmx_races/514631
END:VEVENT
END:VCALENDAR
