BEGIN:VCALENDAR
VERSION:2.0
PRODID:icalendar-ruby
CALSCALE:GREGORIAN
METHOD:PUBLISH
BEGIN:VEVENT
DTSTAMP:20260422T131831Z
UID:f59bc053-b376-45f9-811d-a87c63a0629f
DTSTART;VALUE=DATE:20230418
DTEND;VALUE=DATE:20230418
DESCRIPTION:Tucson BMX
LOCATION:9245 E Irvington  Tucson AZ 85730 USA
SUMMARY:Practice
URL:/site/bmx_races/514637
END:VEVENT
END:VCALENDAR
