BEGIN:VCALENDAR
VERSION:2.0
PRODID:icalendar-ruby
CALSCALE:GREGORIAN
METHOD:PUBLISH
BEGIN:VEVENT
DTSTAMP:20260422T112017Z
UID:bb2a4610-1a5c-468c-b1ee-904a6551d39b
DTSTART;VALUE=DATE:20230509
DTEND;VALUE=DATE:20230509
DESCRIPTION:Tucson BMX
LOCATION:9245 E Irvington  Tucson AZ 85730 USA
SUMMARY:Practice
URL:/site/bmx_races/514643
END:VEVENT
END:VCALENDAR
