BEGIN:VCALENDAR
VERSION:2.0
PRODID:icalendar-ruby
CALSCALE:GREGORIAN
METHOD:PUBLISH
BEGIN:VEVENT
DTSTAMP:20260422T065717Z
UID:154e1d59-b522-4930-a272-73294e19e47f
DTSTART;VALUE=DATE:20230808
DTEND;VALUE=DATE:20230808
DESCRIPTION:Tucson BMX
LOCATION:9245 E Irvington  Tucson AZ 85730 USA
SUMMARY:Practice
URL:/site/bmx_races/514669
END:VEVENT
END:VCALENDAR
