BEGIN:VCALENDAR
VERSION:2.0
PRODID:icalendar-ruby
CALSCALE:GREGORIAN
METHOD:PUBLISH
BEGIN:VEVENT
DTSTAMP:20260422T070048Z
UID:d8fa77d3-120e-418e-a123-b943a30ec483
DTSTART;VALUE=DATE:20230822
DTEND;VALUE=DATE:20230822
DESCRIPTION:Tucson BMX
LOCATION:9245 E Irvington  Tucson AZ 85730 USA
SUMMARY:Practice
URL:/site/bmx_races/514673
END:VEVENT
END:VCALENDAR
